BEGIN:VCALENDAR
VERSION:2.0
PRODID:icalendar-ruby
CALSCALE:GREGORIAN
METHOD:PUBLISH
BEGIN:VEVENT
DTSTAMP:20260423T054035Z
UID:284-686005@commonplacechurch.com
DTSTART:20261029T231500Z
DTEND:20261030T003000Z
CLASS:PUBLIC
CREATED:20260422T214307
DESCRIPTION:
LAST-MODIFIED:20260422T214307
LOCATION:Avenue 209
SUMMARY:Youth Group
URL;VALUE=URI:https://www.commonplacechurch.com/events/youth-group--284/202
 6-10-29
END:VEVENT
END:VCALENDAR
