BEGIN:VCALENDAR
VERSION:2.0
PRODID:icalendar-ruby
CALSCALE:GREGORIAN
METHOD:PUBLISH
BEGIN:VEVENT
DTSTAMP:20260423T004408Z
UID:284-685489@commonplacechurch.com
DTSTART:20261022T231500Z
DTEND:20261023T003000Z
CLASS:PUBLIC
CREATED:20260422T185043
DESCRIPTION:
LAST-MODIFIED:20260422T185043
LOCATION:Avenue 209
SUMMARY:Youth Group
URL;VALUE=URI:https://www.commonplacechurch.com/events/youth-group--284/202
 6-10-22
END:VEVENT
END:VCALENDAR
