BEGIN:VCALENDAR
VERSION:2.0
PRODID:icalendar-ruby
CALSCALE:GREGORIAN
METHOD:PUBLISH
BEGIN:VEVENT
DTSTAMP:20260422T200836Z
UID:284-684973@commonplacechurch.com
DTSTART:20261015T231500Z
DTEND:20261016T003000Z
CLASS:PUBLIC
CREATED:20260422T155708
DESCRIPTION:
LAST-MODIFIED:20260422T155708
LOCATION:Avenue 209
SUMMARY:Youth Group
URL;VALUE=URI:https://www.commonplacechurch.com/events/youth-group--284/202
 6-10-15
END:VEVENT
END:VCALENDAR
