BEGIN:VCALENDAR
VERSION:2.0
PRODID:icalendar-ruby
CALSCALE:GREGORIAN
METHOD:PUBLISH
BEGIN:VEVENT
DTSTAMP:20260422T151323Z
UID:284-683942@commonplacechurch.com
DTSTART:20261008T231500Z
DTEND:20261009T003000Z
CLASS:PUBLIC
CREATED:20260422T100654
DESCRIPTION:
LAST-MODIFIED:20260422T100654
LOCATION:Avenue 209
SUMMARY:Youth Group
URL;VALUE=URI:https://www.commonplacechurch.com/events/youth-group--284/202
 6-10-08
END:VEVENT
END:VCALENDAR
