BEGIN:VCALENDAR
VERSION:2.0
PRODID:icalendar-ruby
CALSCALE:GREGORIAN
METHOD:PUBLISH
BEGIN:VEVENT
DTSTAMP:20260422T103808Z
UID:284-682911@commonplacechurch.com
DTSTART:20261001T231500Z
DTEND:20261002T003000Z
CLASS:PUBLIC
CREATED:20260421T201202
DESCRIPTION:
LAST-MODIFIED:20260421T201202
LOCATION:Avenue 209
SUMMARY:Youth Group
URL;VALUE=URI:https://www.commonplacechurch.com/events/youth-group--284/202
 6-10-01
END:VEVENT
END:VCALENDAR
