BEGIN:VCALENDAR
VERSION:2.0
PRODID:icalendar-ruby
CALSCALE:GREGORIAN
METHOD:PUBLISH
BEGIN:VEVENT
DTSTAMP:20260422T012634Z
UID:284-682909@commonplacechurch.com
DTSTART:20260917T231500Z
DTEND:20260918T003000Z
CLASS:PUBLIC
CREATED:20260421T201202
DESCRIPTION:
LAST-MODIFIED:20260421T201202
LOCATION:Avenue 209
SUMMARY:Youth Group
URL;VALUE=URI:https://www.commonplacechurch.com/events/youth-group--284/202
 6-09-17
END:VEVENT
END:VCALENDAR
