BEGIN:VCALENDAR
VERSION:2.0
PRODID:icalendar-ruby
CALSCALE:GREGORIAN
METHOD:PUBLISH
BEGIN:VEVENT
DTSTAMP:20260421T215943Z
UID:284-682393@commonplacechurch.com
DTSTART:20260910T231500Z
DTEND:20260911T003000Z
CLASS:PUBLIC
CREATED:20260421T173320
DESCRIPTION:
LAST-MODIFIED:20260421T173320
LOCATION:Avenue 209
SUMMARY:Youth Group
URL;VALUE=URI:https://www.commonplacechurch.com/events/youth-group--284/202
 6-09-10
END:VEVENT
END:VCALENDAR
