BEGIN:VCALENDAR
VERSION:2.0
PRODID:icalendar-ruby
CALSCALE:GREGORIAN
METHOD:PUBLISH
BEGIN:VEVENT
DTSTAMP:20260421T163620Z
UID:284-681362@commonplacechurch.com
DTSTART:20260903T231500Z
DTEND:20260904T003000Z
CLASS:PUBLIC
CREATED:20260421T121824
DESCRIPTION:
LAST-MODIFIED:20260421T121824
LOCATION:Avenue 209
SUMMARY:Youth Group
URL;VALUE=URI:https://www.commonplacechurch.com/events/youth-group--284/202
 6-09-03
END:VEVENT
END:VCALENDAR
