BEGIN:VCALENDAR
VERSION:2.0
PRODID:icalendar-ruby
CALSCALE:GREGORIAN
METHOD:PUBLISH
BEGIN:VEVENT
DTSTAMP:20260421T115023Z
UID:284-680331@commonplacechurch.com
DTSTART:20260827T231500Z
DTEND:20260828T003000Z
CLASS:PUBLIC
CREATED:20260421T070452
DESCRIPTION:
LAST-MODIFIED:20260421T070452
LOCATION:Avenue 209
SUMMARY:Youth Group
URL;VALUE=URI:https://www.commonplacechurch.com/events/youth-group--284/202
 6-08-27
END:VEVENT
END:VCALENDAR
