BEGIN:VCALENDAR
VERSION:2.0
PRODID:icalendar-ruby
CALSCALE:GREGORIAN
METHOD:PUBLISH
BEGIN:VEVENT
DTSTAMP:20260421T022439Z
UID:284-679814@commonplacechurch.com
DTSTART:20260813T231500Z
DTEND:20260814T003000Z
CLASS:PUBLIC
CREATED:20260420T195839
DESCRIPTION:
LAST-MODIFIED:20260420T195839
LOCATION:Avenue 209
SUMMARY:Youth Group
URL;VALUE=URI:https://www.commonplacechurch.com/events/youth-group--284/202
 6-08-13
END:VEVENT
END:VCALENDAR
