BEGIN:VCALENDAR
VERSION:2.0
PRODID:icalendar-ruby
CALSCALE:GREGORIAN
METHOD:PUBLISH
BEGIN:VEVENT
DTSTAMP:20260420T205041Z
UID:284-678783@commonplacechurch.com
DTSTART:20260806T231500Z
DTEND:20260807T003000Z
CLASS:PUBLIC
CREATED:20260420T144730
DESCRIPTION:
LAST-MODIFIED:20260420T144730
LOCATION:Avenue 209
SUMMARY:Youth Group
URL;VALUE=URI:https://www.commonplacechurch.com/events/youth-group--284/202
 6-08-06
END:VEVENT
END:VCALENDAR
