BEGIN:VCALENDAR
VERSION:2.0
PRODID:icalendar-ruby
CALSCALE:GREGORIAN
METHOD:PUBLISH
BEGIN:VEVENT
DTSTAMP:20260420T144316Z
UID:284-677752@commonplacechurch.com
DTSTART:20260730T231500Z
DTEND:20260731T003000Z
CLASS:PUBLIC
CREATED:20260420T093922
DESCRIPTION:
LAST-MODIFIED:20260420T093922
LOCATION:Avenue 209
SUMMARY:Youth Group
URL;VALUE=URI:https://www.commonplacechurch.com/events/youth-group--284/202
 6-07-30
END:VEVENT
END:VCALENDAR
