BEGIN:VCALENDAR
VERSION:2.0
PRODID:icalendar-ruby
CALSCALE:GREGORIAN
METHOD:PUBLISH
BEGIN:VEVENT
DTSTAMP:20260420T090604Z
UID:284-676721@commonplacechurch.com
DTSTART:20260723T231500Z
DTEND:20260724T003000Z
CLASS:PUBLIC
CREATED:20260420T015628
DESCRIPTION:
LAST-MODIFIED:20260420T015628
LOCATION:Avenue 209
SUMMARY:Youth Group
URL;VALUE=URI:https://www.commonplacechurch.com/events/youth-group--284/202
 6-07-23
END:VEVENT
END:VCALENDAR
