BEGIN:VCALENDAR
VERSION:2.0
PRODID:icalendar-ruby
CALSCALE:GREGORIAN
METHOD:PUBLISH
BEGIN:VEVENT
DTSTAMP:20260420T131922Z
UID:284-677235@commonplacechurch.com
DTSTART:20260716T231500Z
DTEND:20260717T003000Z
CLASS:PUBLIC
CREATED:20260420T070343
DESCRIPTION:
LAST-MODIFIED:20260420T070343
LOCATION:Avenue 209
SUMMARY:Youth Group
URL;VALUE=URI:https://www.commonplacechurch.com/events/youth-group--284/202
 6-07-16
END:VEVENT
END:VCALENDAR
