BEGIN:VCALENDAR
VERSION:2.0
PRODID:icalendar-ruby
CALSCALE:GREGORIAN
METHOD:PUBLISH
BEGIN:VEVENT
DTSTAMP:20260419T225105Z
UID:284-675689@commonplacechurch.com
DTSTART:20260709T231500Z
DTEND:20260710T003000Z
CLASS:PUBLIC
CREATED:20260419T183955
DESCRIPTION:
LAST-MODIFIED:20260419T183955
LOCATION:Avenue 209
SUMMARY:Youth Group
URL;VALUE=URI:https://www.commonplacechurch.com/events/youth-group--284/202
 6-07-09
END:VEVENT
END:VCALENDAR
