BEGIN:VCALENDAR
VERSION:2.0
PRODID:icalendar-ruby
CALSCALE:GREGORIAN
METHOD:PUBLISH
BEGIN:VEVENT
DTSTAMP:20260419T172535Z
UID:284-674659@commonplacechurch.com
DTSTART:20260702T231500Z
DTEND:20260703T003000Z
CLASS:PUBLIC
CREATED:20260419T111502
DESCRIPTION:
LAST-MODIFIED:20260419T111502
LOCATION:Avenue 209
SUMMARY:Youth Group
URL;VALUE=URI:https://www.commonplacechurch.com/events/youth-group--284/202
 6-07-02
END:VEVENT
END:VCALENDAR
