BEGIN:VCALENDAR
VERSION:2.0
PRODID:icalendar-ruby
CALSCALE:GREGORIAN
METHOD:PUBLISH
BEGIN:VEVENT
DTSTAMP:20260419T115430Z
UID:284-674146@commonplacechurch.com
DTSTART:20260625T231500Z
DTEND:20260626T003000Z
CLASS:PUBLIC
CREATED:20260419T073217
DESCRIPTION:
LAST-MODIFIED:20260419T073217
LOCATION:Avenue 209
SUMMARY:Youth Group
URL;VALUE=URI:https://www.commonplacechurch.com/events/youth-group--284/202
 6-06-25
END:VEVENT
END:VCALENDAR
