BEGIN:VCALENDAR
VERSION:2.0
PRODID:icalendar-ruby
CALSCALE:GREGORIAN
METHOD:PUBLISH
BEGIN:VEVENT
DTSTAMP:20260421T022729Z
UID:284-679764@commonplacechurch.com
DTSTART:20250828T231500Z
DTEND:20250829T003000Z
CLASS:PUBLIC
CREATED:20260420T195839
DESCRIPTION:
LAST-MODIFIED:20260420T195839
LOCATION:Avenue 209
SUMMARY:Youth Group
URL;VALUE=URI:https://www.commonplacechurch.com/events/youth-group--284/202
 5-08-28
END:VEVENT
END:VCALENDAR
