BEGIN:VCALENDAR
VERSION:2.0
PRODID:icalendar-ruby
CALSCALE:GREGORIAN
METHOD:PUBLISH
BEGIN:VEVENT
DTSTAMP:20260420T094911Z
UID:284-676671@commonplacechurch.com
DTSTART:20250807T231500Z
DTEND:20250808T003000Z
CLASS:PUBLIC
CREATED:20260420T015627
DESCRIPTION:
LAST-MODIFIED:20260420T015627
LOCATION:Avenue 209
SUMMARY:Youth Group
URL;VALUE=URI:https://www.commonplacechurch.com/events/youth-group--284/202
 5-08-07
END:VEVENT
END:VCALENDAR
