BEGIN:VCALENDAR
VERSION:2.0
PRODID:icalendar-ruby
CALSCALE:GREGORIAN
METHOD:PUBLISH
BEGIN:VEVENT
DTSTAMP:20260425T185702Z
UID:427-693846@commonplacechurch.com
DTSTART:20260913T140000Z
DTEND:20260913T153000Z
CLASS:PUBLIC
CREATED:20260425T122907
DESCRIPTION:Join us for our weekly Sunday gathering as we worship together
LAST-MODIFIED:20260425T122907
LOCATION:1 Piper Way\, Lock Haven \; Piper Aviation Museum 3rd Floor Commun
 ity Room
SUMMARY:Sunday Gathering @ Piper
URL;VALUE=URI:https://www.commonplacechurch.com/events/sunday-gathering-pip
 er--427/2026-09-13
END:VEVENT
END:VCALENDAR
