BEGIN:VCALENDAR
VERSION:2.0
PRODID:icalendar-ruby
CALSCALE:GREGORIAN
METHOD:PUBLISH
BEGIN:VEVENT
DTSTAMP:20260425T153806Z
UID:427-693328@commonplacechurch.com
DTSTART:20260830T140000Z
DTEND:20260830T153000Z
CLASS:PUBLIC
CREATED:20260425T094836
DESCRIPTION:Join us for our weekly Sunday gathering as we worship together
LAST-MODIFIED:20260425T094836
LOCATION:1 Piper Way\, Lock Haven \; Piper Aviation Museum 3rd Floor Commun
 ity Room
SUMMARY:Sunday Gathering @ Piper
URL;VALUE=URI:https://www.commonplacechurch.com/events/sunday-gathering-pip
 er--427/2026-08-30
END:VEVENT
END:VCALENDAR
