BEGIN:VCALENDAR
VERSION:2.0
PRODID:icalendar-ruby
CALSCALE:GREGORIAN
METHOD:PUBLISH
BEGIN:VEVENT
DTSTAMP:20260424T104910Z
UID:428-689308@commonplacechurch.com
DTSTART:20260802T133000Z
DTEND:20260802T140500Z
CLASS:PUBLIC
CREATED:20260423T214504
DESCRIPTION:Join us for our weekly Sunday gathering as we worship together
LAST-MODIFIED:20260423T214504
LOCATION:209 Bellefonte Ave\, Lock Haven \; Avenue Coffee
SUMMARY:Sunday Gathering @ Avenue
URL;VALUE=URI:https://www.commonplacechurch.com/events/sunday-gathering-ave
 nue--428/2026-08-02
END:VEVENT
END:VCALENDAR
