BEGIN:VCALENDAR
VERSION:2.0
PRODID:icalendar-ruby
CALSCALE:GREGORIAN
METHOD:PUBLISH
BEGIN:VEVENT
DTSTAMP:20260425T153522Z
UID:439-693543@commonplacechurch.com
DTSTART:20261011T140000Z
DTEND:20261011T150000Z
CLASS:PUBLIC
CREATED:20260425T094836
DESCRIPTION:
LAST-MODIFIED:20260425T094836
LOCATION:1 Diamond St\, Williamsport
SUMMARY:Sunday Gathering at Newberry
URL;VALUE=URI:https://www.commonplacechurch.com/events/sunday-gathering-at-
 newberry--439/2026-10-11
ATTACH;FILENAME=460244810_122128997066366335_7647546264745321311_n.jpg;FMTT
 YPE=image/jpeg:https://dq5pwpg1q8ru0.cloudfront.net/2024/12/23/19/06/00/3f
 2481cc-cd9e-43f6-a52f-3cc9484619b3/460244810_122128997066366335_7647546264
 745321311_n.jpg
END:VEVENT
END:VCALENDAR
