BEGIN:VCALENDAR
VERSION:2.0
PRODID:icalendar-ruby
CALSCALE:GREGORIAN
METHOD:PUBLISH
BEGIN:VEVENT
DTSTAMP:20260424T120942Z
UID:472-516916@commonplacechurch.com
DTSTART:20260806T220000Z
DTEND:20260807T000000Z
CLASS:PUBLIC
CREATED:20260225T120258
DESCRIPTION:Led by Gee and Juliette Pena\nFor more information - email gerr
 y@commonplacechurch.com
LAST-MODIFIED:20260225T120258
LOCATION:Pena Home
SUMMARY:Pena Missional Family
URL;VALUE=URI:https://www.commonplacechurch.com/events/pena-missional-famil
 y/2026-08-06
END:VEVENT
END:VCALENDAR
